BEGIN:VCALENDAR
METHOD:PUBLISH
PRODID:-//Weblication CMS
VERSION:2.0
BEGIN:VEVENT
SUMMARY:Generalversammlung VBC Lyss 2026
DTSTART:20260609T000000
DTEND:20260609T235959
DESCRIPTION:
LOCATION:
UID:https://www.vbclyss.ch/de/agenda/termine/Generalversammlung-VBC-Lyss-2026.php
URL:https://www.vbclyss.ch/de/agenda/termine/Generalversammlung-VBC-Lyss-2026.php
END:VEVENT
END:VCALENDAR